BEGIN:VCALENDAR
VERSION:2.0
PRODID:icalendar-ruby
CALSCALE:GREGORIAN
METHOD:PUBLISH
BEGIN:VEVENT
DTSTAMP:20260420T110627Z
UID:43-798500@woli.church
DTSTART:20260118T163000Z
DTEND:20260118T180000Z
CLASS:PUBLIC
CREATED:20260420T024814
DESCRIPTION:English service will be in the sanctuary.\nFrench service will 
 be in the chapel.
LAST-MODIFIED:20260420T024814
LOCATION:Word of Life International Church
SUMMARY:English and French Services
URL;VALUE=URI:https://www.woli.church/events/english-and-french-services/20
 26-01-18
END:VEVENT
END:VCALENDAR
